Package: ncdfFlow Version: 2.54.0 Command: /home/biocbuild/R/R/bin/R CMD build --keep-empty-dirs --no-resave-data ncdfFlow StartedAt: 2025-09-26 04:22:41 -0000 (Fri, 26 Sep 2025) EndedAt: 2025-09-26 04:23:16 -0000 (Fri, 26 Sep 2025) EllapsedTime: 35.0 seconds RetCode: 0 Status: OK PackageFile: ncdfFlow_2.54.0.tar.gz PackageFileSize: 194.4 KiB