Package: ncdfFlow Version: 2.54.0 Maintainer: Mike Jiang MaintainerEmail: mike at ozette.com git_url: https://git.bioconductor.org/packages/ncdfFlow git_branch: RELEASE_3_21 git_last_commit: c78def5 git_last_commit_date: 2025-04-15 10:11:30 -0400 (Tue, 15 Apr 2025)