Package: ncRNAtools Version: 1.20.0 Command: /home/biocbuild/R/R/bin/R CMD INSTALL ncRNAtools StartedAt: 2025-11-13 21:24:07 -0000 (Thu, 13 Nov 2025) EndedAt: 2025-11-13 21:24:21 -0000 (Thu, 13 Nov 2025) EllapsedTime: 14.4 seconds RetCode: 0 Status: OK