Package: ncRNAtools Version: 1.20.0 Command: /home/biocbuild/R/R/bin/R CMD build --keep-empty-dirs --no-resave-data ncRNAtools StartedAt: 2025-11-14 03:45:29 -0000 (Fri, 14 Nov 2025) EndedAt: 2025-11-14 03:46:26 -0000 (Fri, 14 Nov 2025) EllapsedTime: 57.0 seconds RetCode: 0 Status: OK PackageFile: ncRNAtools_1.20.0.tar.gz PackageFileSize: 308.5 KiB