Package: ncRNAtools Version: 1.18.0 Command: /home/biocbuild/bbs-3.21-bioc/R/bin/R CMD INSTALL ncRNAtools StartedAt: 2025-09-28 15:37:25 -0400 (Sun, 28 Sep 2025) EndedAt: 2025-09-28 15:37:37 -0400 (Sun, 28 Sep 2025) EllapsedTime: 11.8 seconds RetCode: 0 Status: OK