Package: ncRNAtools Version: 1.18.0 Command: /Library/Frameworks/R.framework/Resources/bin/R CMD build --keep-empty-dirs --no-resave-data ncRNAtools StartedAt: 2025-10-13 21:04:37 -0400 (Mon, 13 Oct 2025) EndedAt: 2025-10-13 21:05:58 -0400 (Mon, 13 Oct 2025) EllapsedTime: 80.2 seconds RetCode: 0 Status: OK PackageFile: ncRNAtools_1.18.0.tar.gz PackageFileSize: 316.3 KiB