Package: ncRNAtools Version: 1.18.0 Command: /Library/Frameworks/R.framework/Resources/bin/R CMD INSTALL ncRNAtools StartedAt: 2025-09-29 16:34:19 -0400 (Mon, 29 Sep 2025) EndedAt: 2025-09-29 16:34:34 -0400 (Mon, 29 Sep 2025) EllapsedTime: 15.0 seconds RetCode: 0 Status: OK