Package: ncRNAtools Version: 1.18.0 Command: /Library/Frameworks/R.framework/Resources/bin/R CMD build --keep-empty-dirs --no-resave-data ncRNAtools StartedAt: 2025-09-30 05:34:29 -0400 (Tue, 30 Sep 2025) EndedAt: 2025-09-30 05:35:38 -0400 (Tue, 30 Sep 2025) EllapsedTime: 68.5 seconds RetCode: 0 Status: OK PackageFile: ncRNAtools_1.18.0.tar.gz PackageFileSize: 316.8 KiB