Package: ncRNAtools Version: 1.18.0 Command: rm -rf ncRNAtools.buildbin-libdir && mkdir ncRNAtools.buildbin-libdir && /Users/biocbuild/BBS/utils/build-universal.sh ncRNAtools_1.18.0.tar.gz /Library/Frameworks/R.framework/Resources/bin/R ncRNAtools.buildbin-libdir StartedAt: 2025-10-01 19:34:08 -0400 (Wed, 01 Oct 2025) EndedAt: 2025-10-01 19:34:25 -0400 (Wed, 01 Oct 2025) EllapsedTime: 16.9 seconds RetCode: 0 Status: OK PackageFile: ncRNAtools_1.18.0.tgz PackageFileSize: 389.9 KiB