Package: ncGTW Version: 1.24.0 Command: /home/biocbuild/bbs-3.22-bioc/R/bin/R CMD INSTALL ncGTW StartedAt: 2025-11-06 15:47:13 -0500 (Thu, 06 Nov 2025) EndedAt: 2025-11-06 15:48:21 -0500 (Thu, 06 Nov 2025) EllapsedTime: 67.7 seconds RetCode: 0 Status: OK