Package: ncGTW Version: 1.24.0 Command: /home/biocbuild/bbs-3.22-bioc/R/bin/R CMD build --keep-empty-dirs --no-resave-data --md5 ncGTW StartedAt: 2025-11-06 18:59:32 -0500 (Thu, 06 Nov 2025) EndedAt: 2025-11-06 19:02:43 -0500 (Thu, 06 Nov 2025) EllapsedTime: 190.1 seconds RetCode: 0 Status: OK PackageFile: ncGTW_1.24.0.tar.gz PackageFileSize: 2.24 MiB