Package: mzR Version: 2.44.0 Command: /home/biocbuild/R/R/bin/R CMD INSTALL mzR StartedAt: 2025-11-10 21:19:31 -0000 (Mon, 10 Nov 2025) EndedAt: 2025-11-10 21:31:47 -0000 (Mon, 10 Nov 2025) EllapsedTime: 735.5 seconds RetCode: 0 Status: OK