Package: mzR Version: 2.44.0 Command: /home/biocbuild/R/R/bin/R CMD build --keep-empty-dirs --no-resave-data mzR StartedAt: 2025-11-11 03:40:56 -0000 (Tue, 11 Nov 2025) EndedAt: 2025-11-11 03:53:20 -0000 (Tue, 11 Nov 2025) EllapsedTime: 744.3 seconds RetCode: 0 Status: OK PackageFile: mzR_2.44.0.tar.gz PackageFileSize: 7.419 MiB