Package: mzR Version: 2.42.0 Command: /home/biocbuild/bbs-3.21-bioc/R/bin/R CMD INSTALL mzR StartedAt: 2025-10-05 15:13:41 -0400 (Sun, 05 Oct 2025) EndedAt: 2025-10-05 15:22:07 -0400 (Sun, 05 Oct 2025) EllapsedTime: 505.5 seconds RetCode: 0 Status: OK