Package: mzR Version: 2.42.0 Command: /home/biocbuild/bbs-3.21-bioc/R/bin/R CMD build --keep-empty-dirs --no-resave-data mzR StartedAt: 2025-10-05 18:49:29 -0400 (Sun, 05 Oct 2025) EndedAt: 2025-10-05 18:58:50 -0400 (Sun, 05 Oct 2025) EllapsedTime: 560.6 seconds RetCode: 0 Status: OK PackageFile: mzR_2.42.0.tar.gz PackageFileSize: 7.364 MiB