Package: mzR Version: 2.42.0 Command: rm -rf mzR.buildbin-libdir && mkdir mzR.buildbin-libdir && /Users/biocbuild/BBS/utils/build-universal.sh mzR_2.42.0.tar.gz /Library/Frameworks/R.framework/Resources/bin/R mzR.buildbin-libdir StartedAt: 2025-10-04 19:03:13 -0400 (Sat, 04 Oct 2025) EndedAt: 2025-10-04 19:11:49 -0400 (Sat, 04 Oct 2025) EllapsedTime: 516.2 seconds RetCode: 0 Status: OK PackageFile: mzR_2.42.0.tgz PackageFileSize: 3.549 MiB