Package: mzID Version: 1.48.0 Command: /home/biocbuild/bbs-3.22-bioc/R/bin/R CMD INSTALL mzID StartedAt: 2025-11-11 15:10:01 -0500 (Tue, 11 Nov 2025) EndedAt: 2025-11-11 15:10:28 -0500 (Tue, 11 Nov 2025) EllapsedTime: 26.5 seconds RetCode: 0 Status: OK