Package: myvariant Version: 1.40.0 Command: /home/biocbuild/bbs-3.22-bioc/R/bin/R CMD build --keep-empty-dirs --no-resave-data --md5 myvariant StartedAt: 2025-11-11 19:04:11 -0500 (Tue, 11 Nov 2025) EndedAt: 2025-11-11 19:05:18 -0500 (Tue, 11 Nov 2025) EllapsedTime: 67.0 seconds RetCode: 0 Status: OK PackageFile: myvariant_1.40.0.tar.gz PackageFileSize: 159.1 KiB