Package: myvariant Version: 1.38.0 Command: /home/biocbuild/bbs-3.21-bioc/R/bin/R CMD INSTALL myvariant StartedAt: 2025-10-15 15:40:00 -0400 (Wed, 15 Oct 2025) EndedAt: 2025-10-15 15:40:43 -0400 (Wed, 15 Oct 2025) EllapsedTime: 42.2 seconds RetCode: 0 Status: OK