Package: myvariant Version: 1.38.0 Command: /home/biocbuild/R/R/bin/R CMD INSTALL myvariant StartedAt: 2025-09-25 20:57:09 -0000 (Thu, 25 Sep 2025) EndedAt: 2025-09-25 20:58:07 -0000 (Thu, 25 Sep 2025) EllapsedTime: 57.9 seconds RetCode: 0 Status: OK