Package: myvariant Version: 1.38.0 Command: /Library/Frameworks/R.framework/Resources/bin/R CMD INSTALL myvariant StartedAt: 2025-10-13 17:19:50 -0400 (Mon, 13 Oct 2025) EndedAt: 2025-10-13 17:20:39 -0400 (Mon, 13 Oct 2025) EllapsedTime: 49.1 seconds RetCode: 0 Status: OK