Package: mygene Version: 1.46.0 Command: /home/biocbuild/bbs-3.22-bioc/R/bin/R CMD build --keep-empty-dirs --no-resave-data --md5 mygene StartedAt: 2025-11-06 18:58:09 -0500 (Thu, 06 Nov 2025) EndedAt: 2025-11-06 18:59:09 -0500 (Thu, 06 Nov 2025) EllapsedTime: 60.0 seconds RetCode: 0 Status: OK PackageFile: mygene_1.46.0.tar.gz PackageFileSize: 167.4 KiB