Package: mutscan Version: 1.0.0 Command: /home/biocbuild/bbs-3.22-bioc/R/bin/R CMD build --keep-empty-dirs --no-resave-data --md5 mutscan StartedAt: 2025-11-11 19:03:41 -0500 (Tue, 11 Nov 2025) EndedAt: 2025-11-11 19:05:06 -0500 (Tue, 11 Nov 2025) EllapsedTime: 85.1 seconds RetCode: 0 Status: OK PackageFile: mutscan_1.0.0.tar.gz PackageFileSize: 3.542 MiB