Package: muscle Version: 3.52.0 Command: /home/biocbuild/bbs-3.22-bioc/R/bin/R CMD INSTALL muscle StartedAt: 2025-11-14 15:26:49 -0500 (Fri, 14 Nov 2025) EndedAt: 2025-11-14 15:27:36 -0500 (Fri, 14 Nov 2025) EllapsedTime: 47.1 seconds RetCode: 0 Status: OK