Package: muscle Version: 3.52.0 Command: /home/biocbuild/bbs-3.22-bioc/R/bin/R CMD build --keep-empty-dirs --no-resave-data --md5 muscle StartedAt: 2025-11-14 19:02:07 -0500 (Fri, 14 Nov 2025) EndedAt: 2025-11-14 19:03:05 -0500 (Fri, 14 Nov 2025) EllapsedTime: 58.0 seconds RetCode: 0 Status: OK PackageFile: muscle_3.52.0.tar.gz PackageFileSize: 495 KiB