Package: mumosa Version: 1.18.0 Command: /home/biocbuild/bbs-3.22-bioc/R/bin/R CMD build --keep-empty-dirs --no-resave-data --md5 mumosa StartedAt: 2025-11-06 18:57:19 -0500 (Thu, 06 Nov 2025) EndedAt: 2025-11-06 18:59:00 -0500 (Thu, 06 Nov 2025) EllapsedTime: 101.1 seconds RetCode: 0 Status: OK PackageFile: mumosa_1.18.0.tar.gz PackageFileSize: 622.1 KiB