Package: multtest Version: 2.66.0 Command: /home/biocbuild/R/R/bin/R CMD INSTALL multtest StartedAt: 2025-11-20 21:59:38 -0000 (Thu, 20 Nov 2025) EndedAt: 2025-11-20 21:59:55 -0000 (Thu, 20 Nov 2025) EllapsedTime: 17.3 seconds RetCode: 0 Status: OK