Package: multtest Version: 2.66.0 Command: /home/biocbuild/R/R/bin/R CMD build --keep-empty-dirs --no-resave-data multtest StartedAt: 2025-11-21 04:19:25 -0000 (Fri, 21 Nov 2025) EndedAt: 2025-11-21 04:19:27 -0000 (Fri, 21 Nov 2025) EllapsedTime: 2.0 seconds RetCode: 0 Status: OK PackageFile: multtest_2.66.0.tar.gz PackageFileSize: 1.235 MiB