Package: multtest Version: 2.66.0 Command: /home/biocbuild/bbs-3.22-bioc/R/bin/R CMD check --install=check:multtest.install-out.txt --library=/home/biocbuild/bbs-3.22-bioc/R/site-library --timings multtest_2.66.0.tar.gz StartedAt: 2025-11-12 02:01:35 -0500 (Wed, 12 Nov 2025) EndedAt: 2025-11-12 02:02:40 -0500 (Wed, 12 Nov 2025) EllapsedTime: 65.1 seconds RetCode: 0 Status: WARNINGS CheckDir: multtest.Rcheck Warnings: 3