Package: multtest Version: 2.66.0 Command: /home/biocbuild/bbs-3.22-bioc/R/bin/R CMD build --keep-empty-dirs --no-resave-data --md5 multtest StartedAt: 2025-11-11 19:03:03 -0500 (Tue, 11 Nov 2025) EndedAt: 2025-11-11 19:03:05 -0500 (Tue, 11 Nov 2025) EllapsedTime: 2.0 seconds RetCode: 0 Status: OK PackageFile: multtest_2.66.0.tar.gz PackageFileSize: 1.236 MiB