Package: multtest Version: 2.64.0 Command: /home/biocbuild/bbs-3.21-bioc/R/bin/R CMD INSTALL multtest StartedAt: 2025-10-15 15:11:24 -0400 (Wed, 15 Oct 2025) EndedAt: 2025-10-15 15:11:36 -0400 (Wed, 15 Oct 2025) EllapsedTime: 12.0 seconds RetCode: 0 Status: OK