Package: multtest Version: 2.64.0 Command: /Library/Frameworks/R.framework/Resources/bin/R CMD build --keep-empty-dirs --no-resave-data multtest StartedAt: 2025-10-14 05:20:53 -0400 (Tue, 14 Oct 2025) EndedAt: 2025-10-14 05:20:56 -0400 (Tue, 14 Oct 2025) EllapsedTime: 2.3 seconds RetCode: 0 Status: OK PackageFile: multtest_2.64.0.tar.gz PackageFileSize: 1.235 MiB