Package: multtest Version: 2.64.0 Command: rm -rf multtest.buildbin-libdir && mkdir multtest.buildbin-libdir && /Users/biocbuild/BBS/utils/build-universal.sh multtest_2.64.0.tar.gz /Library/Frameworks/R.framework/Resources/bin/R multtest.buildbin-libdir StartedAt: 2025-10-15 19:32:55 -0400 (Wed, 15 Oct 2025) EndedAt: 2025-10-15 19:33:13 -0400 (Wed, 15 Oct 2025) EllapsedTime: 17.8 seconds RetCode: 0 Status: OK PackageFile: multtest_2.64.0.tgz PackageFileSize: 832.1 KiB