Package: multtest Version: 2.66.0 Maintainer: Katherine S. Pollard MaintainerEmail: katherine.pollard at gladstone.ucsf.edu git_url: https://git.bioconductor.org/packages/multtest git_branch: RELEASE_3_22 git_last_commit: 2722ca2 git_last_commit_date: 2025-10-29 09:41:53 -0400 (Wed, 29 Oct 2025)