Package: multistateQTL Version: 2.0.0 Command: /home/biocbuild/R/R/bin/R CMD INSTALL multistateQTL StartedAt: 2025-10-13 20:47:17 -0000 (Mon, 13 Oct 2025) EndedAt: 2025-10-13 20:47:56 -0000 (Mon, 13 Oct 2025) EllapsedTime: 39.2 seconds RetCode: 0 Status: OK