Package: multistateQTL Version: 2.2.0 Command: /Library/Frameworks/R.framework/Resources/bin/R CMD INSTALL multistateQTL StartedAt: 2025-11-06 15:18:17 -0500 (Thu, 06 Nov 2025) EndedAt: 2025-11-06 15:18:28 -0500 (Thu, 06 Nov 2025) EllapsedTime: 11.0 seconds RetCode: 0 Status: OK