Package: multistateQTL Version: 2.2.0 Command: rm -rf multistateQTL.buildbin-libdir && mkdir multistateQTL.buildbin-libdir && /Users/biocbuild/BBS/utils/build-universal.sh multistateQTL_2.2.0.tar.gz /Library/Frameworks/R.framework/Resources/bin/R multistateQTL.buildbin-libdir StartedAt: 2025-11-06 23:13:57 -0500 (Thu, 06 Nov 2025) EndedAt: 2025-11-06 23:14:11 -0500 (Thu, 06 Nov 2025) EllapsedTime: 13.3 seconds RetCode: 0 Status: OK PackageFile: multistateQTL_2.2.0.tgz PackageFileSize: 937.9 KiB