Package: multiscan Version: 1.70.0 Command: /home/biocbuild/bbs-3.22-bioc/R/bin/R CMD INSTALL multiscan StartedAt: 2025-11-17 17:21:25 -0500 (Mon, 17 Nov 2025) EndedAt: 2025-11-17 17:21:29 -0500 (Mon, 17 Nov 2025) EllapsedTime: 3.0 seconds RetCode: 0 Status: OK