Package: multiscan Version: 1.70.0 Command: /home/biocbuild/bbs-3.22-bioc/R/bin/R CMD build --keep-empty-dirs --no-resave-data --md5 multiscan StartedAt: 2025-11-17 22:21:05 -0500 (Mon, 17 Nov 2025) EndedAt: 2025-11-17 22:21:13 -0500 (Mon, 17 Nov 2025) EllapsedTime: 8.0 seconds RetCode: 0 Status: OK PackageFile: multiscan_1.70.0.tar.gz PackageFileSize: 751.8 KiB