Package: multicrispr Version: 1.20.0 Command: /home/biocbuild/R/R/bin/R CMD INSTALL multicrispr StartedAt: 2025-11-13 21:52:18 -0000 (Thu, 13 Nov 2025) EndedAt: 2025-11-13 21:53:05 -0000 (Thu, 13 Nov 2025) EllapsedTime: 47.4 seconds RetCode: 0 Status: OK