Package: multicrispr Version: 1.20.0 Command: /home/biocbuild/R/R/bin/R CMD build --keep-empty-dirs --no-resave-data multicrispr StartedAt: 2025-11-14 03:41:32 -0000 (Fri, 14 Nov 2025) EndedAt: 2025-11-14 03:43:32 -0000 (Fri, 14 Nov 2025) EllapsedTime: 120.1 seconds RetCode: 0 Status: OK PackageFile: multicrispr_1.20.0.tar.gz PackageFileSize: 2.156 MiB