Package: multicrispr Version: 1.20.0 Command: /home/biocbuild/bbs-3.22-bioc/R/bin/R CMD check --install=check:multicrispr.install-out.txt --library=/home/biocbuild/bbs-3.22-bioc/R/site-library --timings multicrispr_1.20.0.tar.gz StartedAt: 2025-11-15 02:15:45 -0500 (Sat, 15 Nov 2025) EndedAt: 2025-11-15 02:23:27 -0500 (Sat, 15 Nov 2025) EllapsedTime: 462.6 seconds RetCode: 0 Status: OK CheckDir: multicrispr.Rcheck Warnings: 0