Package: multicrispr Version: 1.18.0 Command: /home/biocbuild/bbs-3.21-bioc/R/bin/R CMD INSTALL multicrispr StartedAt: 2025-10-08 15:43:28 -0400 (Wed, 08 Oct 2025) EndedAt: 2025-10-08 15:44:05 -0400 (Wed, 08 Oct 2025) EllapsedTime: 36.3 seconds RetCode: 0 Status: OK