Package: multicrispr Version: 1.18.0 Command: /home/biocbuild/bbs-3.21-bioc/R/bin/R CMD build --keep-empty-dirs --no-resave-data multicrispr StartedAt: 2025-10-05 18:47:27 -0400 (Sun, 05 Oct 2025) EndedAt: 2025-10-05 18:48:51 -0400 (Sun, 05 Oct 2025) EllapsedTime: 84.1 seconds RetCode: 0 Status: OK PackageFile: multicrispr_1.18.0.tar.gz PackageFileSize: 2.575 MiB