Package: multicrispr Version: 1.20.0 Command: /Library/Frameworks/R.framework/Resources/bin/R CMD INSTALL multicrispr StartedAt: 2025-11-20 17:03:43 -0500 (Thu, 20 Nov 2025) EndedAt: 2025-11-20 17:05:01 -0500 (Thu, 20 Nov 2025) EllapsedTime: 77.5 seconds RetCode: 0 Status: OK