Package: multicrispr Version: 1.20.0 Command: /Library/Frameworks/R.framework/Resources/bin/R CMD build --keep-empty-dirs --no-resave-data multicrispr StartedAt: 2025-11-20 22:05:05 -0500 (Thu, 20 Nov 2025) EndedAt: 2025-11-20 22:08:16 -0500 (Thu, 20 Nov 2025) EllapsedTime: 191.3 seconds RetCode: 0 Status: OK PackageFile: multicrispr_1.20.0.tar.gz PackageFileSize: 2.586 MiB