Package: multicrispr Version: 1.20.0 Command: rm -rf multicrispr.buildbin-libdir && mkdir multicrispr.buildbin-libdir && /Users/biocbuild/BBS/utils/build-universal.sh multicrispr_1.20.0.tar.gz /Library/Frameworks/R.framework/Resources/bin/R multicrispr.buildbin-libdir StartedAt: 2025-11-21 15:11:40 -0500 (Fri, 21 Nov 2025) EndedAt: 2025-11-21 15:13:00 -0500 (Fri, 21 Nov 2025) EllapsedTime: 80.5 seconds RetCode: 0 Status: OK PackageFile: multicrispr_1.20.0.tgz PackageFileSize: 2.744 MiB