Package: multicrispr Version: 1.18.0 Command: /Library/Frameworks/R.framework/Resources/bin/R CMD INSTALL multicrispr StartedAt: 2025-10-06 17:31:52 -0400 (Mon, 06 Oct 2025) EndedAt: 2025-10-06 17:32:37 -0400 (Mon, 06 Oct 2025) EllapsedTime: 44.7 seconds RetCode: 0 Status: OK