Package: multicrispr Version: 1.18.0 Command: /Library/Frameworks/R.framework/Resources/bin/R CMD build --keep-empty-dirs --no-resave-data multicrispr StartedAt: 2025-10-07 05:31:20 -0400 (Tue, 07 Oct 2025) EndedAt: 2025-10-07 05:33:09 -0400 (Tue, 07 Oct 2025) EllapsedTime: 109.4 seconds RetCode: 0 Status: OK PackageFile: multicrispr_1.18.0.tar.gz PackageFileSize: 2.586 MiB