Package: multicrispr Version: 1.18.0 Command: rm -rf multicrispr.buildbin-libdir && mkdir multicrispr.buildbin-libdir && /Users/biocbuild/BBS/utils/build-universal.sh multicrispr_1.18.0.tar.gz /Library/Frameworks/R.framework/Resources/bin/R multicrispr.buildbin-libdir StartedAt: 2025-10-08 22:00:18 -0400 (Wed, 08 Oct 2025) EndedAt: 2025-10-08 22:01:10 -0400 (Wed, 08 Oct 2025) EllapsedTime: 51.9 seconds RetCode: 0 Status: OK PackageFile: multicrispr_1.18.0.tgz PackageFileSize: 2.745 MiB